BEGIN:VCALENDAR
VERSION:2.0
PRODID:-//| 中国語教室 | イーチャイナ池袋校 | 駅近で通いやすい月謝制に中国語eラーニング「スマチュ」も無料ご利用 - ECPv6.0.12//NONSGML v1.0//EN
CALSCALE:GREGORIAN
METHOD:PUBLISH
X-WR-CALNAME:| 中国語教室 | イーチャイナ池袋校 | 駅近で通いやすい月謝制に中国語eラーニング「スマチュ」も無料ご利用
X-ORIGINAL-URL:https://e-chinaikb.jp
X-WR-CALDESC:| 中国語教室 | イーチャイナ池袋校 | 駅近で通いやすい月謝制に中国語eラーニング「スマチュ」も無料ご利用 のイベント
REFRESH-INTERVAL;VALUE=DURATION:PT1H
X-Robots-Tag:noindex
X-PUBLISHED-TTL:PT1H
BEGIN:VTIMEZONE
TZID:Asia/Tokyo
BEGIN:STANDARD
TZOFFSETFROM:+0900
TZOFFSETTO:+0900
TZNAME:JST
DTSTART:20230101T000000
END:STANDARD
END:VTIMEZONE
BEGIN:VEVENT
DTSTART;TZID=Asia/Tokyo:20260120T100000
DTEND;TZID=Asia/Tokyo:20260331T220000
DTSTAMP:20260424T051724
CREATED:20260120T010045Z
LAST-MODIFIED:20260119T031417Z
UID:31475-1768903200-1774994400@e-chinaikb.jp
SUMMARY:価格改定のお知らせ
DESCRIPTION:平素より当中国語教室をご愛顧いただきまして誠にありがとうございます。\nさて、当中国語教室では受講生に安心してご利用いただけるよう、価格の維持に勤めて参りましたが、昨今の物価と人件費の高騰に伴って、現行価格でのサービスのご提供が難しくなっております。日頃よりご愛顧いただいております受講生にはご迷惑をおかけいたしますが、この度レッスン品質の維持・向上（講師体制の強化、運営コスト上昇への対応等）のため、受講料を下記の通り改定させていただきます。 \n  \n■改定日（料金統一）：2026年4月1日（水）〜 \n■既存受講生：2026年3月末までは現行料金を適用（据え置き期間） \n　　※変更希望の受付期限：退会・休会・コース変更等をご希望の方は、3/10（火）18：00までに事務局までご連絡ください。 \n■新規お申込み：2026年1月20日（火）以降は新料金適用 \n  \n【個人レッスン（1コマ40分×月4回）】　※価格は全て税込表示 \n■新料金（2026年4月1日〜） \n・平日昼間：14\,960円 \n・全日個人：17\,840円 \n・限定講座：22\,000円 \n　　※現在の全日担当：月謝15\,840円も3月末までとなります。 \n  \n■回数券（1コマ40分） \n・平日昼間4\,080円／コマ \n・全日個人4\,870円／コマ \n・限定講座6\,000円／コマ \n　　※すでに購入済みの回数券は有効期限内でそのままご利用いただけます。 \n  \n今後とも講師一同、受講生の皆様にご満足いただけるよう学習効果を最大限にするレッスンをご提供し、一層の品質・サービスレベルの向上に誠心誠意努めてまいります。受講生におかれましては諸事情を御賢察の上、ご理解を賜りますようお願い申し上げます。\n重ね重ねになりますが、今後も【イーチャイナ池袋校】をよろしくお願いいたします。 \n  \n敬具 \nお問い合わせ先：イーチャイナ池袋校　担当市川 \n\n\n\n\n\n\n  \n\n\n\n\n\n\n\nお気軽にお問い合わせください。 \nお電話でも受付中！ \n03-5928-3828\n事務局受付時間　火〜金/10:00〜18:30\n土日/10:00〜17:00 \nお問い合わせ \n\n\n  \n\n\n 
URL:https://e-chinaikb.jp/event/2026kakakukaitei/
LOCATION:イーチャイナ池袋校\, 東京都豊島区南池袋2-17-11後藤ビル401\, 豊島区\, 東京都\, 1710022\, 日本
CATEGORIES:イベント
ORGANIZER;CN="%E3%82%A4%E3%83%BC%E3%83%81%E3%83%A3%E3%82%A4%E3%83%8A%E6%B1%A0%E8%A2%8B%E6%A0%A1":MAILTO:info@e-chinaikb.jp
END:VEVENT
BEGIN:VEVENT
DTSTART;TZID=Asia/Tokyo:20260112T133000
DTEND;TZID=Asia/Tokyo:20260112T170000
DTSTAMP:20260424T051724
CREATED:20251031T035846Z
LAST-MODIFIED:20260108T104148Z
UID:31214-1768224600-1768237200@e-chinaikb.jp
SUMMARY:油泼面（西安の油そば）の会
DESCRIPTION:イーチャイナ池袋校＠料理イベント\n ◇◆油泼面の会（西安の油そば）◆◇ \n  \n油泼面（yóu pō miàn）は中国の陝西省（せんせいしょう）を代表する麺料理で、「油そば」や「西安風ペペロンチーノ」などと例えられます。作り方は、生地から練り上げて茹でた幅広の熱々麺に、唐辛子の粉、ニンニクなどの薬味を乗せ、熱した油をジュワーとかけて作ります。薬味と熱した油の香ばしい香りが食欲をそそり、ピリ辛でジャンキーな味わいがクセになります。 \n油泼面とは『西安のソウルフード』　 \n﻿﻿﻿\n中々自分で作る機会はないと思う貴重な料理会となっていますので、ご家族・ご友人揃ってのご参加をお待ちしております！\n\n \n【日時】2026年1月12日（月・祝）　13：30～17：00　（13：15より入場可能） \n【場所】豊島区IKE　Bizとしま産業振興プラザ　5階　料理室 \n〒170-0021　豊島区西池袋2-37-4　地図はこちら \n \n※非常にキレイなキッチンルームです。豊島区の紹介動画はこちら→イケビズ料理実習室 \n【参加費】おひとり様2\,500円 （お連れ様2\,000円） \n※一般参加も歓迎です。幼児無料、小学生1\,000円です。\n※1月5日以降のキャンセルはキャンセル料100%となります。 \n【持ち物】エプロン \n【定員】20名（先着順） \n【スケジュール】 \n13：15　入場開始 \n13：30　開始の挨拶、自己紹介 \n13：40　料理開始 \n15：10　食事開始 \n16：05　後片付け開始 \n16：50　写真撮影 \n17：00　退出 \n【お申込み締切】2026年1月5日（月） ※参加ご希望の方は各担当講師までお願い致します。また、下記のお問い合わせフォームからもお申込みを受け付けております。 \n  \n   \n☆★以前の料理イベント：韭菜盒子会の様子☆★ \n \n 
URL:https://e-chinaikb.jp/event/2026youpomian/
LOCATION:IKE・Biz　としま産業振興プラザ\, 西池袋2-37-4\, 豊島区\, 東京都\, 171-0021\, 日本
CATEGORIES:イベント
ATTACH;FMTTYPE=image/jpeg:https://e-chinaikb.jp/wp-content/uploads/2025/10/油泼面-1.jpeg
ORGANIZER;CN="%E3%82%A4%E3%83%BC%E3%83%81%E3%83%A3%E3%82%A4%E3%83%8A%E6%B1%A0%E8%A2%8B%E6%A0%A1":MAILTO:info@e-chinaikb.jp
END:VEVENT
BEGIN:VEVENT
DTSTART;TZID=Asia/Tokyo:20251129T153000
DTEND;TZID=Asia/Tokyo:20251129T203000
DTSTAMP:20260424T051724
CREATED:20250904T030020Z
LAST-MODIFIED:20250904T061055Z
UID:31079-1764430200-1764448200@e-chinaikb.jp
SUMMARY:2025忘年会&ボウリング
DESCRIPTION:2025年も間もなく終了です。1年の疲れを慰労する忘年会をボウリングと共にイベントにしました！どちらも池袋駅から近く便利です！『池袋小吃居』はイーチャイナの曹先生のふるさと「河南料理」のお店です！ボウリングでは中国語でのボウリング単語も覚えましょう！ \n普段接しない講師や生徒の方と楽しく交流できる会になっています！ \n日時：11月29日（土）\n≪ボウリング≫\n時間　：15：30集合　16：00～18：00\n会場　：池袋ロサボウル\n場所　：豊島区西池袋1-37-12　受付７階\n参加費：大人2\,500円　小学生2\,000円 \n≪忘年会≫\n時間　：18：30～20：30\n会場　：池袋小吃居　（河南料理）\n場所　：東京都豊島区西池袋1-35-7\n参加費：6\,000円　小学生3\,000円 \n注意点： \n・年末での予約の関係で申込10/31締切となります。キャンセルは11/21まで可。早めに人数を把握させてください！ \n・お申込み人数によって費用と内容が一部変更になる可能性もあります。 \n・参加ご希望の方は担当講師までお願い致します。また、下記のお問い合わせフォームからもお申込みを受け付けております。 \n  \n    \n  \n  \n \n☆★前回の忘年会の様子☆★ \n  \n \n 
URL:https://e-chinaikb.jp/event/2025year-end-party/
LOCATION:池袋小吃居\, 西池袋1-35-7\, 豊島区\, 東京都\, 171\, Japan
CATEGORIES:イベント
ATTACH;FMTTYPE=image/jpeg:https://e-chinaikb.jp/wp-content/uploads/2025/09/保龄球.jpg
ORGANIZER;CN="%E3%82%A4%E3%83%BC%E3%83%81%E3%83%A3%E3%82%A4%E3%83%8A%E6%B1%A0%E8%A2%8B%E6%A0%A1":MAILTO:info@e-chinaikb.jp
END:VEVENT
BEGIN:VEVENT
DTSTART;TZID=Asia/Tokyo:20251123T090000
DTEND;TZID=Asia/Tokyo:20251123T170000
DTSTAMP:20260424T051724
CREATED:20250905T020303Z
LAST-MODIFIED:20250905T024713Z
UID:31093-1763888400-1763917200@e-chinaikb.jp
SUMMARY:2025YCT試験
DESCRIPTION:  \n≪これまでの受験実績≫\n\n\n\n\n\n\n\nYCT試験とは⇒\n\n▲2020年9月6日　北京語言大学東京校（池袋）にてYCT試験を団体受験\n▲2021年12月5日　東京会場にてYCT試験を団体受験\n▲2022年12月4日　東京会場にてYCT試験を団体受験\n▲2023年11月11日　イーチャイナ池袋校にてYCT試験を団体受験\n▲2024年12月8日　イーチャイナ池袋校にてYCT試験を団体受験\n\n\n\n【受講の注意点】\n\n\n■　小中学生対象。イーチャイナ在学生のみお申込みいただけます。 \n■　申し込み方法：お電話（03-5928-3828）または下記お申込みフォームより参加ご希望の級を確認し、ご連絡ください。参加用の申請フォームを送付致します。また受験者の写真をご準備ください。 \n■　申し込み締切り：10月13日（月）17：00までに受験料をご入金ください。 \n\n\n\n\n\n三菱UFJ銀行　池袋東口支店　普通0661903\n名義：カ）チャイナワン\n※振込手数料はお客様負担でお願い致します。\n\n\n\n\n\n\n◎　イーチャイナ池袋校子供レッスンはこちら \n\n\n\n\n無料体験レッスン・教室見学も受付中です。\nまずはお気軽にお問い合わせください。 \nお電話でも受付中！ \n03-5928-3828\n事務局受付時間　火〜金/10:00〜18:30\n土日/10:00〜17:00 \n教室見学申込 \n\n\n  \n\n\n 
URL:https://e-chinaikb.jp/event/2025yct/
LOCATION:イーチャイナ池袋校\, 東京都豊島区南池袋2-17-11後藤ビル401\, 豊島区\, 東京都\, 1710022\, 日本
CATEGORIES:イベント
ATTACH;FMTTYPE=image/jpeg:https://e-chinaikb.jp/wp-content/uploads/2025/09/2025YCT試験.jpg
ORGANIZER;CN="%E3%82%A4%E3%83%BC%E3%83%81%E3%83%A3%E3%82%A4%E3%83%8A%E6%B1%A0%E8%A2%8B%E6%A0%A1":MAILTO:info@e-chinaikb.jp
END:VEVENT
BEGIN:VEVENT
DTSTART;TZID=Asia/Tokyo:20250809T100000
DTEND;TZID=Asia/Tokyo:20250817T220000
DTSTAMP:20260424T051724
CREATED:20250801T112215Z
LAST-MODIFIED:20250801T112215Z
UID:30832-1754733600-1755468000@e-chinaikb.jp
SUMMARY:お盆期間（8/9～8/17）-事務対応のお休み
DESCRIPTION:平素より当中国語教室をご愛顧いただきまして誠にありがとうございます。 \nお盆期間：8/9～8/17は見学及び事務対応がお休みとなります。8/18より通常営業となりますので期間中のお問い合わせは8/18以降でご連絡させていただきます。 \n  \n  \nお問い合わせ先：イーチャイナ池袋校　担当市川 \n\n\n\n\n\n\n  \n\n\n\n\n\n\n\nお気軽にお問い合わせください。 \nお電話でも受付中！ \n03-5928-3828\n事務局受付時間　火〜金/10:00〜18:30\n土日/10:00〜17:00 \nお問い合わせ \n\n\n  \n\n\n 
URL:https://e-chinaikb.jp/event/%e3%81%8a%e7%9b%86%e6%9c%9f%e9%96%93%ef%bc%888-9%ef%bd%9e8-17%ef%bc%89-%e4%ba%8b%e5%8b%99%e5%af%be%e5%bf%9c%e3%81%ae%e3%81%8a%e4%bc%91%e3%81%bf/
CATEGORIES:イベント
END:VEVENT
BEGIN:VEVENT
DTSTART;TZID=Asia/Tokyo:20250809T090000
DTEND;TZID=Asia/Tokyo:20250817T200000
DTSTAMP:20260424T051724
CREATED:20250528T035653Z
LAST-MODIFIED:20250627T004331Z
UID:30623-1754730000-1755460800@e-chinaikb.jp
SUMMARY:天津大学-短期留学(8/9-17)
DESCRIPTION:海風香る歴史都市：天津で、語学も異文化もまるごと体験！\n― レトロとモダンが交差する街で、9日間の知的冒険へ。\n～～コロナ明け5年振りの中国短期留学を再開します！ \n  \n【天津】\n天津は、中国北部に位置する直轄市で、北京市の東南約120km、渤海湾に面した港湾都市です。華北地域の重要な経済・交通・文化の拠点であり、中国有数の工業都市としても知られています。総人口は約1\,380万人、面積は約12\,000㎢におよび、天津市中心部は海河（旧名・三岔河）の流域に発展してきました。古くは京杭大運河の北端に位置し、清代には開港都市として西洋との接点となった歴史もあり、現在でも多くの洋風建築が残されています。天津は「九河下梢」と呼ばれ、水路が発達した地域でありながらも、近年は現代的な都市開発も進み、経済特区やハイテク産業も集積しています。観光地としては、五大道や天津之眼、古文化街などがあり、歴史と現代が融合する魅力的な都市です。 \n   \n【天津大学】\n天津大学は中国教育部直属の全国重点大学で、理工系を中心としながらも、経済学、管理学、文学、法学、芸術学など多様な学部を有する総合大学です。1895年に設立された「北洋大学」を前身とし、中国で最も早く創設された近代的大学として知られています。1951年に現在の「天津大学」に改称され、長い歴史と伝統を誇ります。略称は「天大（てんだい）」で親しまれ、中国の“985工程”および“211工程”に指定されており、研究力の高い名門校です。留学生の受け入れにも力を入れており、毎年数百名の留学生が在籍しています。日本人留学生はやや少なめですが、キャンパスには多様な国籍の学生が集い、国際交流が活発です。天津大学は天津市の市街地にあり、都市の利便性と学術環境の両方を享受できる魅力的な学びの場となっています。 \n   \n2025お盆天津大学-短期留学の内容\n  \n \n※スケジュールは変更となる可能性もあります。 \n【内容】（語学講座はイーチャイナで2班に分ける予定です）\n中国語講座：（60分10コマ）、入門～上級対応：スピーキング、リーディング、現地学生交流、企業訪問\n実践会話　：古文化街、イタリアロード、海河夜景遊覧、天津博物館、五大道、慶王府、瓷房子\n文化体験　：紙扇中国画、篆刻、狗不理包子体験、飲食、ショッピング、現地観光中国語会話 \n教材：楽学中国語 \n【宿泊】\n天津：全季酒店\n一人一部屋　（300元/日）\n洗面所、空調、電話、テレビ、無料wifi \n【申し込みに必要なもの】\n◎パスポート\n◎50歳以上65歳までの方は別途健康診断証明と免責声明が必要になります。\n◎費用\n198\,000円（一人部屋） \n※航空券予約後、ご案内する入金先へ日本円にてお振込みください。\n費用に含まれるもの：申込金、学費、教材費、宿泊費、空港送迎交通費、観光地入場料\n費用に含まれないもの：その他現地交通費、航空券（8～10万目安）、食費（1食10～30元目安）、その他現地実費\n人数：→現在お申込み6名様、開催決定！\n※天津に現地集合できる方であれば、東京以外、中国国内の方もご参加いただけます。\n申込締切：7月11日（金）まで \n\n\n\n\n航空券参考（東京発）\n◎春秋航空利用 \n8/9 （土) 成田 12:55 →15：35天津 \n8/17 (日) 天津15:50→20：10成田\n■航空券代金：1名様合計 　　　　￥¥104\,189- \n  \n※2025.5.29時点 \n\n\n\n\n【注意事項】 \n・お盆前後は航空券が高額になるため早めに航空券をご手配ください。\n・短期語学留学募集であり、旅行とは異なります。航空券手配は提携先旅行会社もしくはご自身となります。\n・天津浜海国際空港に8/9（土）17：00頃までにご到着ください。\n・大学バスの送迎時間に間に合わない場合はご自身での移動となります。\n（天津浜海国際空港⇒天津大学、タクシー:約80元ほど、地下鉄：天津濱海国際空港-地下鉄2号線-曹庄行きに乗り、天津駅で地下鉄3号線南駅方面行きに乗り換え西康路駅で降りる、出口Cから1.2キロ歩く：約1ｈ）\n・紛失・交通遅延などには対応していませんので任意で海外旅行保険にご加入ください。\n・渡航前までにwechat登録をお願いします。参加者でグループを作成します。\n・申し込み後の返金は承っておりません。\n・イーチャイナアカデミー池袋校担当市川が同行します \n  \n    \n   \n\n  \n2019GW西安短期語学留学の様子はこちら \nコロナで中止になってしまった2020GW武漢短期留学 \n2019西安短期留学参加者の声\n入門：O.Kさん\n\n西安は以前より訪れてみたい場所でしたので、参加を決めました。中国語学習も観光も充実で刺激の多い10日間になりました。今回、中国語は入門レベルでの参加でしたので、事前にもっと勉強していったほうがより楽しめただろうと思いました。行きの飛行機が遅れ不安でしたが、一緒に参加の方が空港で待っていてくださったことに感謝しています。皆さん、とても良い方ばかりでした。中国語の勉強だけではない、もっと多くのものを得て、人生の視野が広がりました。交流した方すべてに感謝です。ありがとうございました！ \n\n  \n初中級：H.Nさん\n\n中国語を学習していてもなかなか中国に行く機会が無く、通常の観光とは違う体験をしてみたかったと思い参加しました。プログラム内容は語学授業のほかに文化体験が充実しており、特に現地学生との交流は印象的で思い出深いものでした。また、参加者は皆さん中国語学習という共通の目的を持っていることから、単身参加でもすぐに打ち解けることができました。留学という点では日数的にも体験程度でしたが、盛りだくさんの内容で、不安を感じることなく生の中国を実感した10日間の滞在でした。 \n\n  \n中級：S.Sさん\n\n百聞は一見に如かずで、中国語学習するには実際に現地留学を経験し、それを今後の学習意欲維持に役立てたいと思い、参加を決めました。社会人となると時間の捻出が難しくなりますが、GWの長期連休を利用でき、留学以外にも文化体験、史跡・名勝の観光、現地学生の交流会等、個人の旅行ではなかなか全てを網羅出来ない内容だったのが参加の決め手です。非常に有意義なものとなることを想定していましたが、実際にその通りでした。 \n\n  \n中上級：N.Yさん\n\n私は一人で中国旅行に行くことができるので、わざわざ参加しなくてもいくらでも中国へ行く方法はあると思っていました。けれども実際に参加してみると、ここでしか得られない体験が山盛りでした。留学ならではの背景の違う様々な国の留学生との交流、そして一般の観光では体験できないプログラム、同行者と何日も行動を共にするからこその一体感、様々な感動がありました。こういう体験は他では味わえないと参加して心から感じました。中国の人々は本当に熱くて、親切で、ますます大好きになりました。素晴らしい体験をして感謝しています。時間がとれれば、またこれからも参加したいと思います！ \n\n  \n【天津大学×イーチャイナ～2025夏休み短期留学～キャンパス篇】\n \n  \n【天津大学×イーチャイナ～2025夏休み短期留学～城市篇】\n \n  \n【天津大学×イーチャイナ～2025夏休み短期留学～美食篇】\n \n\n\n\n\nお気軽にお問い合わせください。 \nお電話でも受付中！ \n03-5928-3828\n事務局受付時間　火〜金/10:00〜18:30\n土日/10:00〜17:00 \nお問い合わせ \n\n\n  \n\n\n 
URL:https://e-chinaikb.jp/event/2025study-abroad-in-tianjin/
LOCATION:天津大学\, 南開区衛津路92号\, 天津市\, China
CATEGORIES:イベント
ATTACH;FMTTYPE=image/jpeg:https://e-chinaikb.jp/wp-content/uploads/2025/06/tenshin_slide.jpg
ORGANIZER;CN="%E3%82%A4%E3%83%BC%E3%83%81%E3%83%A3%E3%82%A4%E3%83%8A%E6%B1%A0%E8%A2%8B%E6%A0%A1":MAILTO:info@e-chinaikb.jp
END:VEVENT
BEGIN:VEVENT
DTSTART;TZID=Asia/Tokyo:20250726T090000
DTEND;TZID=Asia/Tokyo:20250805T150000
DTSTAMP:20260424T051724
CREATED:20250513T084835Z
LAST-MODIFIED:20250513T085409Z
UID:30564-1753520400-1754406000@e-chinaikb.jp
SUMMARY:2025中華文化大楽園（6歳～16歳対象）
DESCRIPTION:海外で暮らす華僑の子供たち向けに、中国の文化や伝統を体験できるサマースクールです。本場中国の先生たちがはるばる池袋にやって来て、最終日には発表会も行います。ご参加ご希望の方はお気軽にお問合せ下さい！ \n\n日時　　：2025年7月26日（土）～8月5日（火）9：00～15：00 \n場所　　：東京-池袋-北京語言大学東京校 \n費用　　：30\,000円（学費、設備費、教材費、保険含む） \n締切　　：2025年6月末 \n注意事項：期間中、お昼ご飯と飲料は毎日ご持参いただき、送迎をお願いします。 \n\n  \n\n昨年2024年の様子はこちら \n \n \n \n 　　　　　　　　　　　　　　　　　　　　　　　　　　　　　　　　 \nご興味がある方は講師または事務局までお問い合わせください！ \n  \n  \n  \n  \n  \n \n 
URL:https://e-chinaikb.jp/event/2025hanyudaleyuan/
LOCATION:北京語言大学 東京校\, 南池袋2-29-14\, 豊島区\, 東京都\, 171-0022\, Japan
CATEGORIES:イベント
ATTACH;FMTTYPE=image/jpeg:https://e-chinaikb.jp/wp-content/uploads/2025/05/2025中華大楽園.jpg
END:VEVENT
BEGIN:VEVENT
DTSTART;TZID=Asia/Tokyo:20241223T100000
DTEND;TZID=Asia/Tokyo:20250110T220000
DTSTAMP:20260424T051724
CREATED:20241215T081215Z
LAST-MODIFIED:20251128T041217Z
UID:30333-1734948000-1736546400@e-chinaikb.jp
SUMMARY:年末年始期間（12/23～1/10）-事務対応のお休み
DESCRIPTION:平素より当中国語教室をご愛顧いただきまして誠にありがとうございます。 \n年末年始期間：12/23～1/10は見学及び事務対応がお休みとなります。1/11より通常営業となりますので期間中のお問い合わせは1/11以降でご連絡させていただきます。 \n  \n  \nお問い合わせ先：イーチャイナ池袋校　担当市川 \n\n\n\n\n\n\n  \n\n\n\n\n\n\n\nお気軽にお問い合わせください。 \nお電話でも受付中！ \n03-5928-3828\n事務局受付時間　火〜金/10:00〜18:30\n土日/10:00〜17:00 \nお問い合わせ \n\n\n  \n\n\n 
URL:https://e-chinaikb.jp/event/new-year-vacation-notice-2025/
CATEGORIES:イベント
END:VEVENT
BEGIN:VEVENT
DTSTART;TZID=Asia/Tokyo:20241103T100000
DTEND;TZID=Asia/Tokyo:20241104T160000
DTSTAMP:20260424T051724
CREATED:20241016T070704Z
LAST-MODIFIED:20241016T070941Z
UID:30220-1730628000-1730736000@e-chinaikb.jp
SUMMARY:初めての中国語ワークショップ（HSK協会コラボイベント第二弾）
DESCRIPTION:楽しく中国語と触れ合い、異文化を感じながらお子様のグローバル感覚を伸ばす機会をご提供します。「HSK日本実施委員会」とコラボ、中国語ワークショップはイーチャイナ池袋校講師が担当します。ご参加ご希望の方はQRコードより直接お申込みください！ \n\n日時　　：2024年11月3日（日）4日（月・祝）小学生1～3年生10:00～11：30　/　小学生4～6年生14:00～15：30 \n場所　　：暨南大学日本学院池袋校区　イマス池袋ビル6F \n費用　　：無料 \n人数　　：午前・午後　限定18名 \n申込　　：こちらのフォームからご入力ください \n締切　　：2024年10月30日（木）　定員になり次第受付終了   \n\n  \n\n  \n  \n 　　　　　　　　　　　　　　　　　　　　　　　　　　　　　　　　 \nご興味がある方は講師または事務局までお問い合わせください！ \n  \n  \n  \n  \n  \n \n 
URL:https://e-chinaikb.jp/event/2024chinese-language-workshop2/
LOCATION:暨南大学日本学院池袋校区\, 池袋1-13-18　イマス池袋ビル6F\, 豊島区\, 東京都\, 1700014\, 日本
CATEGORIES:イベント
ATTACH;FMTTYPE=image/jpeg:https://e-chinaikb.jp/wp-content/uploads/2024/10/241103豊島区YCTイベント.jpg
END:VEVENT
BEGIN:VEVENT
DTSTART;TZID=Asia/Tokyo:20240722T090000
DTEND;TZID=Asia/Tokyo:20240802T170000
DTSTAMP:20260424T051724
CREATED:20240528T100453Z
LAST-MODIFIED:20240528T100736Z
UID:29959-1721638800-1722618000@e-chinaikb.jp
SUMMARY:2024中華文化大楽園
DESCRIPTION:海外で暮らす華僑の子供たち向けに、中国の文化や伝統を体験できるサマースクールです。本場中国の先生たちがはるばる池袋にやって来て、最終日には発表会も行います。ご参加ご希望の方はお気軽にお問合せ下さい！ \n\n日時　　：2024年7月22日（月）～8月2日（金）9：00～15：00 \n場所　　：東京-池袋 \n費用　　：29\,500円 \n締切　　：2024年7月5日（金） \n注意事項：期間中、お昼ご飯と飲料は毎日ご持参いただき、送迎をお願いします。 \n\n  \n\n  \n  \n 　　　　　　　　　　　　　　　　　　　　　　　　　　　　　　　　 \nご興味がある方は講師または事務局までお問い合わせください！ \n  \n  \n  \n  \n  \n \n 
URL:https://e-chinaikb.jp/event/2024hanyudaleyuan/
CATEGORIES:イベント
ATTACH;FMTTYPE=image/png:https://e-chinaikb.jp/wp-content/uploads/2024/05/2024中華文化大楽園_イーチャイナ池申込用.png
END:VEVENT
BEGIN:VEVENT
DTSTART;TZID=Asia/Tokyo:20240713T100000
DTEND;TZID=Asia/Tokyo:20240713T170000
DTSTAMP:20260424T051724
CREATED:20240508T050036Z
LAST-MODIFIED:20240510T073154Z
UID:29861-1720864800-1720890000@e-chinaikb.jp
SUMMARY:第三回 《千字詩》日本国際招待展（子供向け出演者募集中）
DESCRIPTION:虎ノ門にある「中国文化センター」で、書写の作品展示と歌の発表をイーチャイナの子供達で出演するイベントです！普段のレッスン+全体練習で準備していく計画で、演目出場希望者を募集中です。出場ご希望の方は担当講師にお気軽にお申し出ください！ \n\n日時　　：2024年7月13日（土）10:00～12：00予定 \n場所　　：中国文化センター（東京都港区虎ノ門3-5-1 37森ビル1F） \n費用　　：2\,500円　（6篇の漢字詩・3枚の用紙・額を含む） \n人数　　：限定10名　　※小学生以上 \n締切　　：2024年6月7日（金） \n  \n\n【演目出場者&作品出展者募集】 \n1.硬筆書写作品展（鉛筆，ボールペン，万年筆可） \n　• 内容：6篇の字詩から1篇を選ぶ \n　• 書式：3枚の用紙から1枚を提出 \n　• 提出締切：6月28日（金） \n2.字詩を歌う-家族篇（イーチャイナ池袋校チーム合唱） \n3.字詩を歌う-中国地（全体の子供達合唱） \n　　※歌う際に要漢服の着用 \n　　　　　　　　 \n《千字詩》は中国暨南大学華文学院王漢衛教授が全世界の青少年が中国語を学ぶために長年をかけて創作した詩篇です。中国の国家特許局の登記も得ており、《字詩》全文は合計で3\,000字余り，单字が约2\,000字で、“字、词、句、篇、言語、文学、文化”が一体となり，同時に中国学の神髄も溶け込んでいます。絶妙かつ簡潔、時代を超えた味わい，すらすらと読みやすい詩です。 \n≪練習日程≫イーチャイナで歌の練習を4回設けています \n\n•5/26，6/9，6/23，7/7，日曜14:30～15:30　（予定） \n•練習参加費：1\,000円/回 \n•練習場所　：イーチャイナアカデミー池袋校 \n※参加の子供達には賞状と証書が送られます。 \n※各家庭父母兄弟姉妹の参加可，その他の家族は要確認。 \n\n  \n  \n　   \n  \n\n  \n \n 　　　　　　　　　　　　　　　　　　　　　　　　　　　　　　　　 \nご興味がある方は講師または事務局までお問い合わせください！ \n  \n  \n  \n  \n  \n \n 
URL:https://e-chinaikb.jp/event/2024qianzishi/
LOCATION:中国文化センター\, 虎ノ門3丁目5-1\, 港区\, 東京都\, 105-0001\, 日本
CATEGORIES:イベント
ATTACH;FMTTYPE=image/png:https://e-chinaikb.jp/wp-content/uploads/2024/05/第三回-《千字詩》日本国際招待展-日本語版.png
ORGANIZER;CN="%E3%82%A4%E3%83%BC%E3%83%81%E3%83%A3%E3%82%A4%E3%83%8A%E6%B1%A0%E8%A2%8B%E6%A0%A1":MAILTO:info@e-chinaikb.jp
END:VEVENT
BEGIN:VEVENT
DTSTART;TZID=Asia/Tokyo:20240331T133000
DTEND;TZID=Asia/Tokyo:20240331T193000
DTSTAMP:20260424T051724
CREATED:20240104T073814Z
LAST-MODIFIED:20240306T035420Z
UID:29598-1711891800-1711913400@e-chinaikb.jp
SUMMARY:イーチャイナ池袋校 開校10周年記念イベント
DESCRIPTION:2014年4月1日に開校したイーチャイナ池袋校はパワフルな講師陣やたくさんの受講生に支えられ、10周年を迎えることができました。ここにささやかながら感謝の気持ちを込めた記念式典を開催する運びとなりました。中国語の演目やクイズゲームなども予定しており、一般の方でも楽しめる内容を企画していますので、たくさんの方のご参加をお待ちしております！ \nなお、イーチャイナのモットーは『チャレンジ』することです！演目の出場希望者もお待ちしております。出場ご希望の方は担当講師にお気軽にお申し出ください！ \n  \n【日時】2024年3月31日（日）13：30～：17：00（13：15より入場可です） \n【会場】IKE・Biz　としま産業振興プラザ6F　第3会議室 \n【演目出場者・参加者募集】 \n◆演目出演者（大人）　限定6名様　　※先着順となります \n　☆担当講師との『口語速成』中国語寸劇に挑戦　 \n　    イーチャイナ定番テキスト『口語速成』のテーマ内から、講師と生徒のペアで中国語の掛け合いを練習して発表をします！　 \n  \n◆演目出演者（子供）　各班限定8名様 \n　☆漢服を着て中国語の歌に挑戦　　 \n≪曲目≫\n　〇小学生『勇气大爆发』\n　〇低学年班『花园种花』\n　〇小学生&幼儿班『你笑起来真好看』 \n≪練習日程≫\n　・2/25（日）14：30～15：30\n　・3/24（日）14：30～15：30 \n　場所：イーチャイナ池袋校\n　参加費：1\,000円にて\n　　ご希望者のみご参加ください。参加費は当日、直接講師にお支払いください。 \n≪リハーサル≫\n　・3/31（日）10：30～11：30\n　参加費不要、当日出演者の方はできるだけご参加をお願いします。 \n≪衣装について≫\n漢服をお持ちでない方は別途3\,000～5\,000円程度を実費ご負担いただきイーチャイナにて手配致します。\nその場合は発注の関係で申込締切が1/31までとなります。 \n≪衣装例≫ \n  \n　その他にも講師パフォーマンスや中国語ゲームを予定、出場者の練習は実際のレッスン中で行って行きます。 \n  \n【参加者・見学者費用】2\,000円　　　 \n※家族見学者は参加費無料 \n【申込締切】\n・衣装をイーチャイナ手配する場合　1/31\n・見学者　　　　　　　　　　　　　3/17 \n　   \n  \n\n  \n【当日の予定内容】 \n①イーチャイナ代表：李洲社長ご挨拶 \n⓶イーチャイナ池袋校校長：市川談話 \n　　≪イーチャイナ池袋校10年の歴史≫ \n③講師勤労表彰式 \n④有志による子供パフォーマンス \n    　≪中国語の歌と踊り≫　 \n⑤先生&生徒によるパフォーマンス \n　≪口語速成：寸劇≫ \n⑥中国語クイズ&ゲーム \n⑦閉会のあいさつと中国語の歌斉唱　『听我说谢谢你』 \n　≪写真撮影≫ \n 　　　　　　　　　　　　　　　　　　　　　　　　　　　　　　　　 \n  \n終了後は池袋の本格中華料理店にて懇親会も予定しております！（17：30～20：30程度） \n池袋　竹香園：東京都豊島区西池袋1-28-6 大和産業ビル 3F \n  \n　懇親会費：  目安大人5\,000円、子供2\,000円　　※当日割り勘となります。 \nステージもある60人程度の会場を予約してあります。イーチャイナ池袋校講師によるパフォーマンスもこちらで予定しておりますので、ぜひ足をお運びください！ \n  \nどちらも予約制となりますので、参加ご希望の方は担当講師もしくは事務局までお問い合わせください。 \n  \n  \n  \n  \n  \n  \n \n 
URL:https://e-chinaikb.jp/event/chinaikb-10th-anniversary-event/
LOCATION:IKE・Biz　としま産業振興プラザ\, 西池袋2-37-4\, 豊島区\, 東京都\, 171-0021\, 日本
CATEGORIES:イベント
ATTACH;FMTTYPE=image/jpeg:https://e-chinaikb.jp/wp-content/uploads/2024/01/池袋校10周年記念.jpg
ORGANIZER;CN="%E3%82%A4%E3%83%BC%E3%83%81%E3%83%A3%E3%82%A4%E3%83%8A%E6%B1%A0%E8%A2%8B%E6%A0%A1":MAILTO:info@e-chinaikb.jp
END:VEVENT
BEGIN:VEVENT
DTSTART;TZID=Asia/Tokyo:20231029T093000
DTEND;TZID=Asia/Tokyo:20231029T120000
DTSTAMP:20260424T051724
CREATED:20230830T103359Z
LAST-MODIFIED:20231024T044122Z
UID:29256-1698571800-1698580800@e-chinaikb.jp
SUMMARY:2023スピーチコンテスト
DESCRIPTION:好評だった第1回、2回イーチャイナスピーチコンテストでしたが、コロナも終了した今回は対面での開催となりました。普段の中国語学習の成果を披露する場として、スピーチ・会話を披露していきましょう。テーマに沿った中国語スピーチで、成績優秀者にはHSK試験の無料参加券のプレゼントも予定しています！ \n単調になりがちなスピーチコンテストを面白くするために、仮装や小道具歓迎、講師による中国語クイズやゲーム、終了後のガチ中華や中華スーパー散策など、参加者が楽しく交流できるイベントを計画しています。ぜひともに中国語を勉強する仲間と切磋琢磨してスピーチ力を高めましょう！！ \n  \n【日時】2023年10月29日（日）9：30～：12：00（9：15より入場可です） \n【会場】IKE・Biz　としま産業振興プラザ5F　第一会議室 \n【出場資格】イーチャイナアカデミー受講生もしくは一般学習者　（小学生以上） \n【スピーチテーマ】　疫情结束了，我想…… \n参加者は事前に写真とWord原稿をご提出ください。詳しくはページ下段の【提出物について】をご参照ください。中国語スピーチ及び質問含めて1人5分程度を予定しています。マンツーマンレッスンでスピーチの練習をすることもできますので各担当講師にご相談ください！ \n【審査基準】以下の5項目でイーチャイナアカデミー現役講師達が厳正に審査します。 \n　　　⓵発音  ②文法  ③会話力  ④内容   ⑤表現力　⑥面白さ　 \n【参加費】在学生2\,000円　　一般2\,500円　　  \n　　　　　親族見学者無料　　一般1\,000円　 \n出場者・見学者ともに1人1票の投票権があります。優秀者には2024年3月まで利用できるHSK試験無料参加券を贈呈します。また参加者には当日スピーチの製本原稿もお贈りします。 \n【定員】出場者15名（先着順）　 \n\n  \n【当日プログラム内容】 \n　1、司会者挨拶～本日の流れのご説明～ \n　2、代表者挨拶 \n　3、イベント注意事項の説明 \n　4、審査員紹介 \n　5、審査基準の説明 \n　6、スピーチ開始 \n　7、休憩中　中国語クイズ（脑筋急转弯、谜语）やゲーム（击鼓传花、传话、踩气球） \n　8、スピーチ終了：審査開始 \n　9、中国語クイズゲーム（審査待ち時間にて） \n　10、結果発表と講評 \n　11、閉会の挨拶 \n　12，終了後懇親会　中国語クイズ（脑筋急转弯、谜语）やゲーム（击鼓传花、传话、踩气球） \n  \n終了後、池袋ガチ中華で昼食会⇒ガチ中華スーパーでショッピングも予定しています。参加を希望する方は、予約が必要になりますのでお申込み時にお伝えください！ \nガチ中華：楽楽屋 \nガチ中華スーパー：友誼商店 \n 　 \n  \n【参加の注意点】 \nスピーチコンテストは盛り上がりに欠けることが多いですが、ハロウィンにちなんで発表者や講師達で体感を持って楽しめる内容にしていきたいです。コスプレや小道具も歓迎です。スピーチを盛り上げてくれる方は審査評価に加点がされます！ \n\n  \n【申込方法】参加ご希望の方は担当講師までお願い致します。また、下記のお問い合わせフォームからもお申込みを受け付けております。\n \n【申込締切】2023年10月8日　※出場者は完全予約制となります。 \n【提出物について】 \n　　◎提出原稿：⓵中国語、日本語両方（中国語文字数：400文字まで、添削完了文にて） \n　　◎提出写真：テーマの写真2枚と発表者の写真1枚 \n　　◎原稿締切日：10月14日　17時までに各学校へご提出ください。 \n　　　　　池袋校　：info@e-chinaikb.jp \n  \n  \n   \n☆★前回のスピーチコンテストの様子☆★ \n  \n \n 
URL:https://e-chinaikb.jp/event/2023speech-contest/
LOCATION:IKE・Biz　としま産業振興プラザ\, 西池袋2-37-4\, 豊島区\, 東京都\, 171-0021\, 日本
CATEGORIES:イベント
ATTACH;FMTTYPE=image/jpeg:https://e-chinaikb.jp/wp-content/uploads/2023/08/第3回スピーチコンテスト.jpg
ORGANIZER;CN="%E3%82%A4%E3%83%BC%E3%83%81%E3%83%A3%E3%82%A4%E3%83%8A%E6%B1%A0%E8%A2%8B%E6%A0%A1":MAILTO:info@e-chinaikb.jp
END:VEVENT
END:VCALENDAR