BEGIN:VCALENDAR
VERSION:2.0
PRODID:-//| 中国語教室 | イーチャイナ池袋校 | 駅近で通いやすい月謝制に中国語eラーニング「スマチュ」も無料ご利用 - ECPv6.0.12//NONSGML v1.0//EN
CALSCALE:GREGORIAN
METHOD:PUBLISH
X-WR-CALNAME:| 中国語教室 | イーチャイナ池袋校 | 駅近で通いやすい月謝制に中国語eラーニング「スマチュ」も無料ご利用
X-ORIGINAL-URL:https://e-chinaikb.jp
X-WR-CALDESC:| 中国語教室 | イーチャイナ池袋校 | 駅近で通いやすい月謝制に中国語eラーニング「スマチュ」も無料ご利用 のイベント
REFRESH-INTERVAL;VALUE=DURATION:PT1H
X-Robots-Tag:noindex
X-PUBLISHED-TTL:PT1H
BEGIN:VTIMEZONE
TZID:Asia/Tokyo
BEGIN:STANDARD
TZOFFSETFROM:+0900
TZOFFSETTO:+0900
TZNAME:JST
DTSTART:20230101T000000
END:STANDARD
END:VTIMEZONE
BEGIN:VEVENT
DTSTART;TZID=Asia/Tokyo:20260301T100000
DTEND;TZID=Asia/Tokyo:20260331T190000
DTSTAMP:20260424T090017
CREATED:20260214T001840Z
LAST-MODIFIED:20260303T020506Z
UID:31600-1772359200-1774983600@e-chinaikb.jp
SUMMARY:春のスタートダッシュグループ応援フェア　3/1～3/31
DESCRIPTION:春、学びを“加速”させる。\n3月限定｜社会人グループレッスン応援キャンペーン\n新しい季節に、新しい挑戦を。\nこの春、中国語学習を本気で始めたい社会人のために、\n特別なスタート応援キャンペーンをご用意しました。\n  \nこんなお悩みはありませんか？\n・独学では続かなかった\n・発音に自信がない\n・モチベーションが続かない\n・仕事に活かせる中国語を身につけたい\n社会人の中国語学習は、\n「やる気」よりも「環境」で決まります。\nだからこそ私たちは、\n“続く仕組み”を整えました。\n\n  \n【🌸 春スタート応援7大特典】\n\n\n\n  \n\n\n① グループレッスン入学金半額\n通常22\,000円 → 11\,000円 \n\n② 【春限定】友達紹介フリー\n最初の1ヶ月、1回家族・お友達を無料同伴OK（グループの雰囲気を体験できます） \n\n③ 【出席保証制度】初月の1回分を振替保証\n急な仕事や予定変更にも対応。忙しい社会人でも安心です。 \n初月のみ1回限りマンツーマンレッスンへ振替が可能です。（通常価格4\,870円相当） \n\n④ 学習スターターキット進呈\nイーチャイナオリジナル発音教材を無料プレゼント \n中国語は“最初の発音”が土台。正しいスタートが、その後の伸びを決めます。 \n\n⑤ 【春限定】Wechat質問サポート1ヶ月無料\nレッスン外でも質問OK。わからないを、その日のうちに解決。 \n\n⑥ 【ペア入学割】\nご友人・ご家族と同時入学で特典あり。もう一名は入学金無料へ「一緒に始める」が、継続の力になります。 \n\n  \n\n\n\n\n⑦ 【在学中eラーニング「スマチュ」が無料でご利用】\n「スマチュ」とは、イーチャイナアカデミーが独自に開発した、中国語eラーニングです。インターネットにアクセスできる環境（パソコン、スマートフォン、タブレット端末等）であれば、いつでも、どこでも、気軽に中国語の学習ができます。教室で使用する教材の内容とリンクしているので「スマチュ」と教室の両方で勉強することで学習効果をさらに高めます！ \n\n  \n\n\n\n\n\n  \n【新規クラス募集内容】\n\n\n◆ 開講日程\n入門クラス\n◎4月5日（日）　入門会話クラス　10:00〜11:20\n◎4月6日（土）　入門会話クラス　10:45〜12:05\n◎4月8日（水）　入門会話クラス　13:00〜14:20\n\n※グループクラスは3名から開講します。\n※上記日程以外も可能ですが、ご希望の時間枠を3つ以上ご提出ください。\n※入門クラスは早期申込で「早割り60」「早割り30」の特典あり。 \n\n\n\n\n中上級クラス\n◎4月4日（土）HSK4級オンラインクラス　10:45〜12:05\n◎4月7日（火）上級会話クラス　19：00～20：20\n※残り1名で開講可能です \n注意事項 \n・グループクラス80分クラス　月謝10\,240円\n・締め切り：各クラス1週間前までに人数が集まらない場合は1カ月募集期間を延長します。\n・半年以上のご継続が必要となります。\n・キャンペーン期間3/1（日）～3/31（火）対象 \n 初心・経験者でも安心！ぜひお気軽にご参加ください！ \n  \n◆既存グループクラスはこちら\n \nグループレッスンの特徴\n\n３～6人の少人数クラスで会話力アップ。\nリーズナブルな受講料。（10\,240円～/月）\n学習した重要フレーズ使い、その場でロールプレイング。\n教材は入門～上級まで幅広く対応。\neラーニング学習導入で、効率的にステップアップ。\n\n  \n学習ツール「スマチュ」 \n  \n\nよくあるご質問\n選ばれる理由 \n受講までの流れ \n受講生の声 \n\n\n無料体験レッスン・教室見学も受付中です。\nまずはお気軽にお問い合わせください。 \nお電話でも受付中！ \n03-5928-3828\n事務局受付時間　火〜金/10:00〜18:30\n土日/10:00〜17:00 \n教室見学申込 \n\n\n 
URL:https://e-chinaikb.jp/event/2026spring-campaign/
LOCATION:イーチャイナ池袋校\, 東京都豊島区南池袋2-17-11後藤ビル401\, 豊島区\, 東京都\, 1710022\, 日本
CATEGORIES:体験会
ATTACH;FMTTYPE=image/png:https://e-chinaikb.jp/wp-content/uploads/2026/02/春のスタートダッシュグループ応援フェア.png
ORGANIZER;CN="%E3%82%A4%E3%83%BC%E3%83%81%E3%83%A3%E3%82%A4%E3%83%8A%E6%B1%A0%E8%A2%8B%E6%A0%A1":MAILTO:info@e-chinaikb.jp
END:VEVENT
BEGIN:VEVENT
DTSTART;TZID=Asia/Tokyo:20240629T100000
DTEND;TZID=Asia/Tokyo:20240629T160000
DTSTAMP:20260424T090017
CREATED:20240524T012351Z
LAST-MODIFIED:20240528T005401Z
UID:29946-1719655200-1719676800@e-chinaikb.jp
SUMMARY:初めての中国語ワークショップ（HSK協会コラボイベント）
DESCRIPTION:楽しく中国語と触れ合い、異文化を感じながらお子様のグローバル感覚を伸ばす機会をご提供します。「HSK日本実施委員会」とコラボ、中国語ワークショップはイーチャイナ池袋校講師が担当します。ご参加ご希望の方はQRコードより直接お申込みください！ \n\n日時　　：2024年6月29日（土）小学生1～3年生10:00～11：30　/　小学生4～6年生14:00～15：30 \n場所　　：日本青少年育成協会（東京都新宿区神楽坂6-46 ローベル神楽坂7F） \n費用　　：無料 \n人数　　：午前・午後　限定18名 \n締切　　：2024年6月20日（木）　定員になり次第受付終了   \n\n  \n\n  \n  \n 　　　　　　　　　　　　　　　　　　　　　　　　　　　　　　　　 \nご興味がある方は講師または事務局までお問い合わせください！ \n  \n  \n  \n  \n  \n \n 
URL:https://e-chinaikb.jp/event/2024chinese-language-workshop/
LOCATION:HSK日本実施委員会\, 神楽坂6-46ローベル神楽坂ビル7階\, 新宿区\, 東京都\, 162-0825\, 日本
CATEGORIES:体験会
ATTACH;FMTTYPE=image/jpeg:https://e-chinaikb.jp/wp-content/uploads/2024/05/6月29日初めての中国語ワークショップ.jpg
END:VEVENT
BEGIN:VEVENT
DTSTART;TZID=Asia/Tokyo:20240401T100000
DTEND;TZID=Asia/Tokyo:20240430T180000
DTSTAMP:20260424T090017
CREATED:20240330T013057Z
LAST-MODIFIED:20240414T054150Z
UID:29748-1711965600-1714500000@e-chinaikb.jp
SUMMARY:開校10周年-春の入学キャンペーン　4/1～4/30
DESCRIPTION:おかげさまでイーチャイナ池袋校は開校10周年！感謝の気持ちを込めたお得な入学キャンペーンを実施中です。中国語を始めるなら今がチャンス！\n≪イーチャイナ入学特典≫\n①入学金サービス\n \n※限定5名様入学金半額\n入学金-通常22\,000円\n通いやすい月謝制 \n②在学中eラーニング「スマチュ」がずっと無料で利用可\n「スマチュ」とは、イーチャイナアカデミーが独自に開発した、中国語eラーニングです。インターネットにアクセスできる環境（パソコン、スマートフォン、タブレット端末等）であれば、いつでも、どこでも、気軽に中国語の学習ができます。教室で使用する教材の内容とリンクしているので「スマチュ」と教室の両方で勉強することで学習効果をさらに高めます！ \n \n※忙しい現代人はスキマ時間で予習復習 \n学習ツール「スマチュ」 \n③集中講座30％OFFクーポンプレゼント\n大人の場合：GW、お盆、年末年始、子供の場合：春季、夏季、冬季　にて集中講座を毎年開講しています。2025年3月末まで利用可、大人の集中講座で利用すると16\,200円相当です！長期休暇を活用して中国語スキルアップしましょう！\n  \n    \nイベント・集中講座情報 \n  \nキャンペーン期間：4/1～4/30まで\n  \n\nよくあるご質問\n選ばれる理由 \n受講までの流れ \n受講生の声 \n\n\n無料体験レッスン・教室見学も受付中です。\nまずはお気軽にお問い合わせください。 \nお電話でも受付中！ \n03-5928-3828\n事務局受付時間　火〜金/10:00〜18:30\n土日/10:00〜17:00 \n教室見学申込 \n\n\n 
URL:https://e-chinaikb.jp/event/2024spring-campaign/
LOCATION:イーチャイナ池袋校\, 東京都豊島区南池袋2-17-11後藤ビル401\, 豊島区\, 東京都\, 1710022\, 日本
CATEGORIES:体験会
ATTACH;FMTTYPE=image/jpeg:https://e-chinaikb.jp/wp-content/uploads/2024/03/池袋校10周年記念-入学キャンペーン.jpg
ORGANIZER;CN="%E3%82%A4%E3%83%BC%E3%83%81%E3%83%A3%E3%82%A4%E3%83%8A%E6%B1%A0%E8%A2%8B%E6%A0%A1":MAILTO:info@e-chinaikb.jp
END:VEVENT
BEGIN:VEVENT
DTSTART;TZID=Asia/Tokyo:20231010T160000
DTEND;TZID=Asia/Tokyo:20231010T163000
DTSTAMP:20260424T090017
CREATED:20230913T040701Z
LAST-MODIFIED:20231006T092133Z
UID:29291-1696953600-1696955400@e-chinaikb.jp
SUMMARY:中国語Halloween工作
DESCRIPTION:日程\n開講：10/3・10・17・24（火） \n　　　4日間各日とも　16：00～　/　17：30～ \n　　　 \n内容\n≪テーマ≫中国語の歌を覚えながらハロウィンの工作をしよう！ \n当日の流れ\n　　　1、中国語あいさつとウォーミングアップ \n　　　2、お手本を見ながら制作開始 \n　　　3、ハロウィン関する中国語の名前を覚える \n　　　4、中国語の歌でさらに覚える \n\n\n     \n　※親子で参加できる楽しいイベントです。作った作品はお持ち帰りいただけます。 \n                              \n  \n子供レッスンの目標\n\n\n・ピンインを聞いて認識できるようになる\n・単語や短文を聞いて意味を理解できるようになる\n・単語や簡単な意志表現をできるようになる\n・漢字を見て読めるようになる\n・発音を聞いてピンイン漢字を書けるようになる \n子供レッスンの特徴\n\n\n耳慣れメソッドできれいな発音をマスター\n幼年期、少年期は言語習得の黄金期と言われ、中国語バイリンガルを育成できるよう、ネイティブ中国人講師がレッスン担当します。キレイな標準語の発音をしっかり聞き取って、中国語の発音やリズム感に慣れ、体で吸収しながら、学習の楽しさを味わい、子どもたちの集中力、思考力、語学表現力などを育て、自ら学ぶ意欲を育成していきます。楽しみながら中国語でのコミュニケーション能力を磨きます。 \n家庭での中国語環境を作れるようしっかりサポート\nレッスン以外にもできるだけ中国語の環境を作っていくことは非常に重要です。子供達は周りから聞いた音を素直に自然と吸収していきます。イーチャイナが提供する次世代のクラウド学習サービス「スマチュ」には子供向けのコースもあるので家庭でもスキマ時間に中国語学習ができます。また、レッスンで使用する中国語の歌や単語などもyoutubeを活用して、楽しみながら覚えることができます。 \n子供の心を理解したネイティブベテラン講師が担当\n一般的に子供レッスンは大人のレッスンより難易度が高く、より豊富な講師経験が必要です。イーチャイナの子供レッスンは中国語教育を熟知しているだけでなく、子供心も理解したベテランの講師が担当しています。明るく楽しい授業雰囲気のレッスンの中で、子供達が時間を忘れるたように学ぶことができます。中華学校で国語テキストとして使われているテキストで「聞く・話す・読む・書く」の4 技能を総合的に身に付けることができ、【古詩】や【成語故事】も取り入れ、中国の歴史や文化も理解することができます。 \n\n\n\n\n\n\n\n\n  \n\n\n  \n\n\n\n\n【注意点】\n\n\n■　定員：各回先着5名様まで \n■　当日参加も歓迎です！気軽にお問合せください \n  \n\n\n\n\n\n\n\n\n\n\n無料体験レッスン・教室見学も受付中です。\nまずはお気軽にお問い合わせください。 \nお電話でも受付中！ \n03-5928-3828\n事務局受付時間　火〜金/10:00〜18:30\n土日/10:00〜17:00 \n教室見学申込 \n\n\n  \n\n\n 
URL:https://e-chinaikb.jp/event/chinese-halloween-crafts/
LOCATION:講談社こども教室東雲教室\, 東雲1-9-20-103（6街区）2-Ｃ　東雲キャナルコート　1階　講談社こども教室\, 江東区\, 東京都\, 135-0062
CATEGORIES:体験会
ATTACH;FMTTYPE=image/png:https://e-chinaikb.jp/wp-content/uploads/2023/09/東雲10月ハロウィンイベント.png
ORGANIZER;CN="%E3%82%A4%E3%83%BC%E3%83%81%E3%83%A3%E3%82%A4%E3%83%8A%E6%B1%A0%E8%A2%8B%E6%A0%A1":MAILTO:info@e-chinaikb.jp
END:VEVENT
BEGIN:VEVENT
DTSTART;TZID=Asia/Tokyo:20230829T150000
DTEND;TZID=Asia/Tokyo:20230829T160000
DTSTAMP:20260424T090017
CREATED:20230728T052231Z
LAST-MODIFIED:20230823T030100Z
UID:29197-1693321200-1693324800@e-chinaikb.jp
SUMMARY:中国語でDANCE
DESCRIPTION:日程\n開講：8/8・22・29（火） \n　　　各日とも　15：00～ \n　　　 \n内容\n≪テーマ≫中国語の歌を覚えながら楽しく踊りましょう \n当日の流れ\n　　　1、中国語あいさつとウォーミングアップ \n　　　2、歌に出てくる中国語の単語を覚える \n　　　3、曲の振り付けを覚える \n　　　4、本番の中国語の歌を聞きながらダンシング♪ \n\n\n    \n　※数字、フルーツ、身体の部位、色の表現を予定しています。親子で参加できる楽しいイベントです。 \n                              \n  \n子供レッスンの目標\n\n\n・ピンインを聞いて認識できるようになる\n・単語や短文を聞いて意味を理解できるようになる\n・単語や簡単な意志表現をできるようになる\n・漢字を見て読めるようになる\n・発音を聞いてピンイン漢字を書けるようになる \n子供レッスンの特徴\n\n\n耳慣れメソッドできれいな発音をマスター\n幼年期、少年期は言語習得の黄金期と言われ、中国語バイリンガルを育成できるよう、ネイティブ中国人講師がレッスン担当します。キレイな標準語の発音をしっかり聞き取って、中国語の発音やリズム感に慣れ、体で吸収しながら、学習の楽しさを味わい、子どもたちの集中力、思考力、語学表現力などを育て、自ら学ぶ意欲を育成していきます。楽しみながら中国語でのコミュニケーション能力を磨きます。 \n家庭での中国語環境を作れるようしっかりサポート\nレッスン以外にもできるだけ中国語の環境を作っていくことは非常に重要です。子供達は周りから聞いた音を素直に自然と吸収していきます。イーチャイナが提供する次世代のクラウド学習サービス「スマチュ」には子供向けのコースもあるので家庭でもスキマ時間に中国語学習ができます。また、レッスンで使用する中国語の歌や単語などもyoutubeを活用して、楽しみながら覚えることができます。 \n子供の心を理解したネイティブベテラン講師が担当\n一般的に子供レッスンは大人のレッスンより難易度が高く、より豊富な講師経験が必要です。イーチャイナの子供レッスンは中国語教育を熟知しているだけでなく、子供心も理解したベテランの講師が担当しています。明るく楽しい授業雰囲気のレッスンの中で、子供達が時間を忘れるたように学ぶことができます。中華学校で国語テキストとして使われているテキストで「聞く・話す・読む・書く」の4 技能を総合的に身に付けることができ、【古詩】や【成語故事】も取り入れ、中国の歴史や文化も理解することができます。 \n\n\n\n\n\n\n\n\n  \n\n\n  \n\n\n\n\n【注意点】\n\n\n■　定員：各回先着5名様まで \n■　当日参加も歓迎です！気軽にお問合せください \n  \n\n\n\n\n\n\n\n\n\n\n無料体験レッスン・教室見学も受付中です。\nまずはお気軽にお問い合わせください。 \nお電話でも受付中！ \n03-5928-3828\n事務局受付時間　火〜金/10:00〜18:30\n土日/10:00〜17:00 \n教室見学申込 \n\n\n  \n\n\n 
URL:https://e-chinaikb.jp/event/chinese-dance/
LOCATION:講談社こども教室東雲教室\, 東雲1-9-20-103（6街区）2-Ｃ　東雲キャナルコート　1階　講談社こども教室\, 江東区\, 東京都\, 135-0062
CATEGORIES:体験会
ATTACH;FMTTYPE=image/png:https://e-chinaikb.jp/wp-content/uploads/2023/07/中国語でダンシング　A4　体験チラシ.png
ORGANIZER;CN="%E3%82%A4%E3%83%BC%E3%83%81%E3%83%A3%E3%82%A4%E3%83%8A%E6%B1%A0%E8%A2%8B%E6%A0%A1":MAILTO:info@e-chinaikb.jp
END:VEVENT
BEGIN:VEVENT
DTSTART;TZID=Asia/Tokyo:20230516T150000
DTEND;TZID=Asia/Tokyo:20230516T170000
DTSTAMP:20260424T090017
CREATED:20230406T062953Z
LAST-MODIFIED:20230407T030020Z
UID:27865-1684249200-1684256400@e-chinaikb.jp
SUMMARY:体験会）東雲キッズ校　新規開校&説明会
DESCRIPTION:日程\n開講：5/16（火） \n　　　幼児の説明会　　　15：00～15：40 \n　　　小学生の説明会　　16：00～16：40 \n内容\n≪幼児≫ \n　　　1、ウォーミングアップ【你好歌】 \n　　　2、メインの内容【颜色】 \n　　　3、中国語の歌【彩色的地球】 \n　　　4、中国語絵本【彩色的天空】 \n\n\n≪小学生≫ \n　　　1、ウォーミングアップ【中国語で挨拶】 \n　　　2、漢字を学ぶ【日月山水】：漢字の成り立ちと組み合せ \n　　　3、漢字のミニゲーム \n　　　 \n子供レッスンの目標\n\n\n・ピンインを聞いて認識できるようになる\n・単語や短文を聞いて意味を理解できるようになる\n・単語や簡単な意志表現をできるようになる\n・漢字を見て読めるようになる\n・発音を聞いてピンイン漢字を書けるようになる \n子供レッスンの特徴\n\n\n耳慣れメソッドできれいな発音をマスター\n幼年期、少年期は言語習得の黄金期と言われ、中国語バイリンガルを育成できるよう、ネイティブ中国人講師がレッスン担当します。キレイな標準語の発音をしっかり聞き取って、中国語の発音やリズム感に慣れ、体で吸収しながら、学習の楽しさを味わい、子どもたちの集中力、思考力、語学表現力などを育て、自ら学ぶ意欲を育成していきます。楽しみながら中国語でのコミュニケーション能力を磨きます。 \n家庭での中国語環境を作れるようしっかりサポート\nレッスン以外にもできるだけ中国語の環境を作っていくことは非常に重要です。子供達は周りから聞いた音を素直に自然と吸収していきます。イーチャイナが提供する次世代のクラウド学習サービス「スマチュ」には子供向けのコースもあるので家庭でもスキマ時間に中国語学習ができます。また、レッスンで使用する中国語の歌や単語などもyoutubeを活用して、楽しみながら覚えることができます。 \n子供の心を理解したネイティブベテラン講師が担当\n一般的に子供レッスンは大人のレッスンより難易度が高く、より豊富な講師経験が必要です。イーチャイナの子供レッスンは中国語教育を熟知しているだけでなく、子供心も理解したベテランの講師が担当しています。明るく楽しい授業雰囲気のレッスンの中で、子供達が時間を忘れるたように学ぶことができます。中華学校で国語テキストとして使われているテキストで「聞く・話す・読む・書く」の4 技能を総合的に身に付けることができ、【古詩】や【成語故事】も取り入れ、中国の歴史や文化も理解することができます。 \n\n\n\n\n\n\n\n\n　　\n\n\n  \n\n\n\n\n【注意点】\n\n\n■　定員：各先着10名様まで \n■　ご予約制となっていますのでお気軽にお問合せください \n  \n\n\n\n\n\n\n\n\n\n\n無料体験レッスン・教室見学も受付中です。\nまずはお気軽にお問い合わせください。 \nお電話でも受付中！ \n03-5928-3828\n事務局受付時間　火〜金/10:00〜18:30\n土日/10:00〜17:00 \n教室見学申込 \n\n\n  \n\n\n 
URL:https://e-chinaikb.jp/event/shinonome-kids-school/
LOCATION:講談社こども教室東雲教室\, 東雲1-9-20-103（6街区）2-Ｃ　東雲キャナルコート　1階　講談社こども教室\, 江東区\, 東京都\, 135-0062
CATEGORIES:体験会
ATTACH;FMTTYPE=image/jpeg:https://e-chinaikb.jp/wp-content/uploads/2023/04/イーチャイナ東雲キッズ校.jpg
ORGANIZER;CN="%E3%82%A4%E3%83%BC%E3%83%81%E3%83%A3%E3%82%A4%E3%83%8A%E6%B1%A0%E8%A2%8B%E6%A0%A1":MAILTO:info@e-chinaikb.jp
END:VEVENT
END:VCALENDAR