BEGIN:VCALENDAR
VERSION:2.0
PRODID:-//| 中国語教室 | イーチャイナ池袋校 | 駅近で通いやすい月謝制に中国語eラーニング「スマチュ」も無料ご利用 - ECPv6.0.12//NONSGML v1.0//EN
CALSCALE:GREGORIAN
METHOD:PUBLISH
X-WR-CALNAME:| 中国語教室 | イーチャイナ池袋校 | 駅近で通いやすい月謝制に中国語eラーニング「スマチュ」も無料ご利用
X-ORIGINAL-URL:https://e-chinaikb.jp
X-WR-CALDESC:| 中国語教室 | イーチャイナ池袋校 | 駅近で通いやすい月謝制に中国語eラーニング「スマチュ」も無料ご利用 のイベント
REFRESH-INTERVAL;VALUE=DURATION:PT1H
X-Robots-Tag:noindex
X-PUBLISHED-TTL:PT1H
BEGIN:VTIMEZONE
TZID:Asia/Tokyo
BEGIN:STANDARD
TZOFFSETFROM:+0900
TZOFFSETTO:+0900
TZNAME:JST
DTSTART:20240101T000000
END:STANDARD
END:VTIMEZONE
BEGIN:VEVENT
DTSTART;TZID=Asia/Tokyo:20240401T100000
DTEND;TZID=Asia/Tokyo:20240430T180000
DTSTAMP:20260425T195656
CREATED:20240330T013057Z
LAST-MODIFIED:20240414T054150Z
UID:29748-1711965600-1714500000@e-chinaikb.jp
SUMMARY:開校10周年-春の入学キャンペーン　4/1～4/30
DESCRIPTION:おかげさまでイーチャイナ池袋校は開校10周年！感謝の気持ちを込めたお得な入学キャンペーンを実施中です。中国語を始めるなら今がチャンス！\n≪イーチャイナ入学特典≫\n①入学金サービス\n \n※限定5名様入学金半額\n入学金-通常22\,000円\n通いやすい月謝制 \n②在学中eラーニング「スマチュ」がずっと無料で利用可\n「スマチュ」とは、イーチャイナアカデミーが独自に開発した、中国語eラーニングです。インターネットにアクセスできる環境（パソコン、スマートフォン、タブレット端末等）であれば、いつでも、どこでも、気軽に中国語の学習ができます。教室で使用する教材の内容とリンクしているので「スマチュ」と教室の両方で勉強することで学習効果をさらに高めます！ \n \n※忙しい現代人はスキマ時間で予習復習 \n学習ツール「スマチュ」 \n③集中講座30％OFFクーポンプレゼント\n大人の場合：GW、お盆、年末年始、子供の場合：春季、夏季、冬季　にて集中講座を毎年開講しています。2025年3月末まで利用可、大人の集中講座で利用すると16\,200円相当です！長期休暇を活用して中国語スキルアップしましょう！\n  \n    \nイベント・集中講座情報 \n  \nキャンペーン期間：4/1～4/30まで\n  \n\nよくあるご質問\n選ばれる理由 \n受講までの流れ \n受講生の声 \n\n\n無料体験レッスン・教室見学も受付中です。\nまずはお気軽にお問い合わせください。 \nお電話でも受付中！ \n03-5928-3828\n事務局受付時間　火〜金/10:00〜18:30\n土日/10:00〜17:00 \n教室見学申込 \n\n\n 
URL:https://e-chinaikb.jp/event/2024spring-campaign/
LOCATION:イーチャイナ池袋校\, 東京都豊島区南池袋2-17-11後藤ビル401\, 豊島区\, 東京都\, 1710022\, 日本
CATEGORIES:体験会
ATTACH;FMTTYPE=image/jpeg:https://e-chinaikb.jp/wp-content/uploads/2024/03/池袋校10周年記念-入学キャンペーン.jpg
ORGANIZER;CN="%E3%82%A4%E3%83%BC%E3%83%81%E3%83%A3%E3%82%A4%E3%83%8A%E6%B1%A0%E8%A2%8B%E6%A0%A1":MAILTO:info@e-chinaikb.jp
END:VEVENT
END:VCALENDAR