BEGIN:VCALENDAR
VERSION:2.0
PRODID:-//| 中国語教室 | イーチャイナ池袋校 | 駅近で通いやすい月謝制に中国語eラーニング「スマチュ」も無料ご利用 - ECPv6.0.12//NONSGML v1.0//EN
CALSCALE:GREGORIAN
METHOD:PUBLISH
X-WR-CALNAME:| 中国語教室 | イーチャイナ池袋校 | 駅近で通いやすい月謝制に中国語eラーニング「スマチュ」も無料ご利用
X-ORIGINAL-URL:https://e-chinaikb.jp
X-WR-CALDESC:| 中国語教室 | イーチャイナ池袋校 | 駅近で通いやすい月謝制に中国語eラーニング「スマチュ」も無料ご利用 のイベント
REFRESH-INTERVAL;VALUE=DURATION:PT1H
X-Robots-Tag:noindex
X-PUBLISHED-TTL:PT1H
BEGIN:VTIMEZONE
TZID:Asia/Tokyo
BEGIN:STANDARD
TZOFFSETFROM:+0900
TZOFFSETTO:+0900
TZNAME:JST
DTSTART:20260101T000000
END:STANDARD
END:VTIMEZONE
BEGIN:VEVENT
DTSTART;TZID=Asia/Tokyo:20260516T223000
DTEND;TZID=Asia/Tokyo:20260516T223000
DTSTAMP:20260424T155751
CREATED:20230115T014345Z
LAST-MODIFIED:20260421T033730Z
UID:26493-1778970600-1778970600@e-chinaikb.jp
SUMMARY:新規）少人数グループ「入門クラス」：お申込制
DESCRIPTION:ゼロからでも、きれいな中国語へ。少人数だから、話せる中国語へ。\n中国語をこれから始めたい方、もう一度しっかり学び直したい方へ。イーチャイナの入門クラスは、初心者だけの少人数制。発音から会話の基礎まで、無理なく・楽しく身につけていきます。 \n\n◆ クラスについて\n新規グループクラスは1月・4月・7月・10月の年4回限定開講です。 \n　　●事前申込制　申請フォーム \n　　●3名以上で開講 \n　　※お好きなタイミングで始めたい方は、マンツーマンレッスンまたは既存グループクラスもご案内可能です。 \n\n◆ 対象\n　　●中国語をゼロから始めたい方 \n　　●以前学習したが、基礎からやり直したい方 \n　　●発音に自信をつけたい方 \n　　●オンライン受講も可能です。対面+オンラインのハイブリッドレッスンも可 \n\n◆ 開講日程（新規募集中）\n　　◎5月13日（水）　入門クラス　13:00〜14:20\n　　◎5月15日（金）　入門クラス　19:00〜20:20\n　　◎5月16日（土）　入門クラス　10:45〜12:05\n　　◎5月17日（日）　入門クラス　10:45〜12:05\n　　　※上記日程以外も可能ですが、ご希望の時間枠を3つ以上ご提出ください。 \n※5/15開始の金曜クラスが開講決定！残席3名様あり。お問合せください。 \n\n\n\n\n◆目標\n・中国語の発音、ピンインと声調のマスター「最重要！」\n・中国語の基本文型として名詞述語文、形容詞述語文、存在文\n・簡単なあいさつ、自己紹介、身近な人の紹介など\n・基礎旅行会話、行先を教え、道順を聞くなど\n・買い物、ちょっと値段交渉、食事を注文するなど\n・基礎職場会話、気軽な雑談から会議のアポイントをとるなど \n◆特徴\n特徴①｜耳慣れメソッドで「きれいな発音」を身につける\nピンインから発音を勉強するのが一般的ですが、イーチャイナの入門講座は耳慣れからです。ネイティブの発音をしっかり聞き取れてから、ピンインへ導くの逆のアプローチの指導を行います。ピンインはあくまで発音を覚える補助ツールとして、まず音を体で覚えてから発音へとフォーカスします。日本人に最も苦手とされている声調についても、イーチャイナには独特のメソッドがあります。声調の特有な発音パターンをリズム感に置き換え、なかなか覚えない声調もリズム感で記憶を増幅して、より楽しく覚えていただきます。 \n \n 特徴②｜予習・復習も万全サポート\nレッスンは週１回なので、次のレッスンを受けるまでにせっかく覚えたことも薄れてしまいがちです。イーチャイナの入門講座は、次世代のクラウド学習サービス「スマチュ」を用いて、がっちり受講生をサポートいたします。「スマチュ」には、授業中の単語はもちろん、先生たちが録音した実用性の高い例文もたくさん収録しています。また、生徒さんが作った中国語の文章を先生に添削してもらうこともできます。 \n \n特徴③｜プロ講師による安心の指導\n初めて中国語に出会う生徒さんにとって、難しく感じるところも一人ひとり様々です。イーチャイナの入門講座は、すべてベテラン講師が担当いたします。長年の指導経験を生かして、レッスンの進行、宿題の出し方など的確に把握しています。日本人学習者の弱点も熟知しているので、弱点克服の方法を日本語でしっかり説明し、明るく楽しい授業雰囲気のレッスンの中で受講生の中国語に対する興味を無限大に引き出します。入門講座の習得目的も確実に達成し、対話力の基礎を作り上げます。 \n \n  \n◆早期申請割引（早割6０/30）\n新規クラスはお早めの申請で割引特典あり！ \n開講日の前日から数えて60日前までに手続きを完了されたお客さまへは「早割60日」を適用し、入学金6\,000円割引とスマチュ先行ご利用をプレゼントします。 \n\n\n\n\n開講日の前日から数えて30日前までに手続きを完了されたお客さまへは「早割30日」を適用し、入学金3\,000円割引とスマチュ先行ご利用をプレゼントします。 \n\n\nグループレッスン申込フォームで申請された方が対象になります。申請フォーム \n\n\n友達・ご家族の複数お申し込みも歓迎です！入学金22\,000円は人数で案分可能です！ \n\n\n◆注意点\n・3名以上でグループ開講になります。開講を確約するものではないでのご承知ください。1週間前までに人数が集まらない場合は1カ月募集期間を延長します。 \n・お申込み金5\,500円（税込）を期日までにお支払いください。こちらでスマチュ60日ご利用分が付与されます。お申込み金は後日の入学金に充当いただけます。ご返金はできかねますのでご承知ください。 \n・スマチュご利用なしで開講待ち申込の場合、不開講だった場合に全額返金対応致します。※振込手数料はご負担ください。 \n・ご希望時間枠を3つ以上ご提出ください。また新規グループクラスは6カ月以上ご継続が必要です。　　既存クラスはこちら⇒ \n  \n\n\n無料体験レッスン・教室見学も受付中です。\nまずはお気軽にお問い合わせください。 \nお電話でも受付中！ \n03-5928-3828\n事務局受付時間　火〜金/10:00〜18:30\n土日/10:00〜17:00 \n教室見学申込 \n\n\n  \n\n\n 
URL:https://e-chinaikb.jp/event/new-group-class/
LOCATION:イーチャイナ池袋校\, 東京都豊島区南池袋2-17-11後藤ビル401\, 豊島区\, 東京都\, 1710022\, 日本
CATEGORIES:講座
ATTACH;FMTTYPE=image/jpeg:https://e-chinaikb.jp/wp-content/uploads/2023/01/授業の様子_曽婷-2-scaled.jpeg
ORGANIZER;CN="%E3%82%A4%E3%83%BC%E3%83%81%E3%83%A3%E3%82%A4%E3%83%8A%E6%B1%A0%E8%A2%8B%E6%A0%A1":MAILTO:info@e-chinaikb.jp
END:VEVENT
END:VCALENDAR