BEGIN:VCALENDAR
VERSION:2.0
PRODID:-//| 中国語教室 | イーチャイナ池袋校 | 駅近で通いやすい月謝制に中国語eラーニング「スマチュ」も無料ご利用 - ECPv6.0.12//NONSGML v1.0//EN
CALSCALE:GREGORIAN
METHOD:PUBLISH
X-WR-CALNAME:| 中国語教室 | イーチャイナ池袋校 | 駅近で通いやすい月謝制に中国語eラーニング「スマチュ」も無料ご利用
X-ORIGINAL-URL:https://e-chinaikb.jp
X-WR-CALDESC:| 中国語教室 | イーチャイナ池袋校 | 駅近で通いやすい月謝制に中国語eラーニング「スマチュ」も無料ご利用 のイベント
REFRESH-INTERVAL;VALUE=DURATION:PT1H
X-Robots-Tag:noindex
X-PUBLISHED-TTL:PT1H
BEGIN:VTIMEZONE
TZID:Asia/Tokyo
BEGIN:STANDARD
TZOFFSETFROM:+0900
TZOFFSETTO:+0900
TZNAME:JST
DTSTART:20250101T000000
END:STANDARD
END:VTIMEZONE
BEGIN:VEVENT
DTSTART;TZID=Asia/Tokyo:20251227T100000
DTEND;TZID=Asia/Tokyo:20260110T170000
DTSTAMP:20260424T120426
CREATED:20251031T074056Z
LAST-MODIFIED:20251217T020315Z
UID:31225-1766829600-1768064400@e-chinaikb.jp
SUMMARY:短期）2025-2026年末年始集中講座
DESCRIPTION:人気の集中講座を今年も開講します！レベルに合わせた内容で開講、オンラインも教室レッスンも対応しています。長期休暇を有効活用してスキルアップしましょう！語学の上達は短期集中が効率的ですのでご参加をお待ちしております！ \n開講期間：\n　第一ターム3日間：12/27（土）～12/29（月）\n　第二ターム3日間：1/3（土）、1/4（日）、1/10（土）\n　各日程　10：00～17：00\n※1名の場合は時間短縮にて \n新リリース中国語EXコース\n※入門~中級向け（HSK4級相当まで対応します）\n「中国語EX」とは、イーチャイナアカデミーが独自に開発した、中国語eラーニング「スマチュ」のアップグレードコースです。インターネットにアクセスできる環境（パソコン、スマートフォン、タブレット端末等）であれば、いつでも、どこでも、気軽に中国語の学習ができます。中国語EXコース受講者は（通常月額3\,000円+中国語EX1\,500円）が在学中無料となります。\n\n\n1.クラウドで進化する学習プラットフォームweb教材\n中国語EXは単なる教材ではなく、 常に進化する学習プラットフォームです。時代や学習者ニーズに合わせてクラウドで常にチューニングされるため、学び続けるほど効果が高まります。 \n①ハイレベルな講師達のknowledge（知識・経験）を蓄積、拡大した実用的な例文\n②単語・文法・本文・宿題を一体化し、学習時間や成果を可視化\n③学習記録や細分化された評価システムでモチベーションを維持 \n \n2.日本語ネイティブに特化した設計でアウトプット練習\n英語圏向け教材ではカバーできない「日本人の弱点」に焦点。特に 声調の習得 と “話すマインド”の形成 を重視 \n・声調ドリルやアウトプット中心の練習で、「伝わる中国語」を実践的に習得\n・日本人学習者に多い「インプット偏重（input＞output）」を改善\n・output：input＝7：3 の比重で、口語表現力と実践応用力を効率的に高めます \n \n3.「シュチュエーションマンダラ」でシーンに合った最適なフレーズを\nコミュニケーションに必要なのは、複雑な長文ではなく シンプルな短文。シーンに合わせたフレーズを習得！ \n・忙しい社会人でも学習を継続できるよう、限られた時間で高頻度語彙を効率的に学習\n・「少ない単語で多くを表現すること」を目指し、実用性を最優先に設計\n・難解な語彙を大量に覚えるより、「すぐに使える表現」を習得 \n \n特徴的なシチュエーションマンダラ \n1、中国語EXコース（入門）\n　　対象：中国語初めての方\n　　　1日目：中国語概説、発音基礎、挨拶、中国語の基本構文\n　　　2日目：疑問文、数字とお金の言い方、自己紹介\n　　　3日目：家族の構成を聞く、日時や曜日の表現、総まとめ \n\n2、中国語EXコース（初級）\n　　対象：HSK1～2級相当の方\n　　　1日目：方向・方角、食事、ショッピングの表現\n　　　2日目：道を聞く、道案内の表現、予定を聞く表現\n　　　3日目：助動詞～できる、時間や経験を聞く表現、総まとめ \n\n3、中国語EXコース（中級）\n　　対象：HSK3～4級相当の方\n　　　1日目：経験表現（～したことがある）、進行形（～している）、現地情報について\n　　　2日目：結果補語、方向補語、可能補語方\n　　　3日目：比較表現、受身表現、「把」構文、総まとめ \n\n \n\nAIがあなたの発音を適切に評価★\n【初級向け会話】\n\n\n\n\n4、「話せる」中国語会話初級\n中国語が話せる実感・能力を身につけたい方、初級（基礎文法習得）の方、HSK2～3級相当の方。\n≪お勧めポイント≫\n中国語の基礎を学んでいるはずなのに話す自信がない、日常的な表現がすぐに出てこない。こんな方にお勧めの短期間で中国語基礎会話を実践する集中講座です。「話せる中国語」を身につけることを目標とし、見本のビデオを視聴し、経験豊富なネイティブ講師が16のテーマで頭で考える前に中国語が出てくる瞬発力を特訓します。最終日には参加者発表会を行い、自身の成長を確認することもできます。\n　　1日目：身の回りの6つの会話シーン\n\n　　　　　⓵日常挨拶、②状態、特徴の説明、③名前、国籍、連絡方法の会話\n　　　　　④期日、誕生日の会話、⑤時間、約束する会話、⑥年齢、家族、職業の会話\n\n　　2日目：外出先での5つの会話シーン\n\n　　　　　⑦商品の値段、買い物についての会話、⑧道を尋ねる会話、⑨意見を聞く、相談する会話\n　　　　　⑩状況や人、物について尋ねる会話、⑪趣味、特技、人をほめる会話\n　　3日目：約束や状況説明する時の5つの会話シーン\n\n　　　　　⑫経験についての会話、⑬出来事を説明する会話、⑭病状説明する会話\n　　　　　⑮アポを取る、同意する、断る会話、⑯比較する、不満、心配を言う会話\n\n\n\n\n\n【中級向け会話】\n\n5、「話せる」中国語会話中級\n\n\n\n\n\n\n\n\n\n\n\n\n\n\n中国人と話す自信がない、会話ができない中級者を対象にお勧めの短期間で中国語が話せるを実践する集中講座です。経験豊富なネイティブ講師が8のテーマを用意しています。見本のビデオを視聴し、日本語禁止の環境の中で頭で考える前に中国語が出てくる瞬発力を特訓します！HSK4級以上を取得しているが会話ができない方、中国語が話せる実感・能力を身につけたい方に特にお勧めです。\n\n\n　　　1日目：中国旅行や出張の際にも使える4つの会話シーン\n　　　　　　①施設の場所を尋ねる、②商品の情報や買い物をする会話\n　　　　　　③レストランでの飲食、好みの味についての会話、④ 休暇の予定、旅行の経験についての会話\n　　　2日目：中国赴任の際にも使える4つの会話シーン\n　　　　　　⑤交通、距離についての会話、⑥チケット、ホテルを予約する会話\n　　　　　　⑦慰める、励ます、祝福する、⑧分かれる時の会話\n　　　3日目：中国赴任の際にも使える4つの会話シーン\n　　　　　　⑨印象の良い自己紹介、⑩質問する、アドバイスを出す会話、⑪ 失敗する経験についての会話\n　　　　　　⑫電話を掛ける、アドバイスや助けを求める会話\n\n\n\n\n\n  \n【発音】\n\n\n\n\n6、発音集中講座（入門～上級）\n「発音矯正」をテーマに中国語の発音テクニックや中国語リズム、日本人の苦手発音を徹底的に特訓します。キチンと発音・声調について学ばなかった、正しい中国語の発音を身につけたい方にお勧めの講座です。\n　　1日目：声母、韵母、日本人が間違いやすい発音について\n　　2日目：四声と軽声の発音方法と識別方法\n　　　　  　b-p、d-t、sh-s、ch-c、n-l、f-h、r-l、儿化音\n　　　　  　u-ü、ai-ei、ao-ou、ou-uo、an-ang、in-ing、uan- üan\n　　3日目：発音実践練習とまとめ\n                    双音节的轻重音、三音节的轻重音、四音节的轻重音、逻辑重音、语法重音、句子的语气\n\n\n\n \n\n\n\n\n\n【受講の注意点】\n■　定員：各講座7名まで\n※2名から開講します。また1名でも同料金で開講できますが時間が1日/4ｈとなります。 \n■　受講時間：1日/6ｈ・・・10：00～13：00　休憩　14：00～17：00\n1日/4ｈ・・・10：00～12：00　休憩　13：00～15：00\n■　オンライン受講の方へ　通信環境ご注意点： \nツールはZoomミーティングを利用します。https://zoom.us/\n通信環境のご準備をお願いします。メールアドレスに招待メールを送付しますのでURLをクリックいただければレッスン開始となります。\n操作にご不安な方は事務局で通信テストも行えますのでお気軽にご連絡ください。 \n■　どの講座も受講者に希望に合わせて教室受講・オンライン受講で対応します。どちらもいる場合はハイブリッド（教室受講者とオンライン併用）で行います。 \n■　受講料：中国語EXコース　3日講座　　57\,000円　　※eラーニング中国語EXご利用30日分付き \n                     発音もしくは会話   3日講座　  54\,000円　　　　　　　　　　　 \n※イーチャイナ在学生10％OFF、もしくは2つ以上の申込で10％OFFとなります。 \n■　キャンセル規定：お申込み確定後のキャンセルは手数料1\,100円と口座振込の場合は手数料をご負担ください。また受講開始の3日前以降はキャンセルできかねます。 \n■　1日だけの参加もできますが連続で受講いただく方がより効果があります。また全日参加の方を優先させていただきます。 \n■　申し込み方法：お電話（03-5928-3828）または下記お申込みフォームよりご希望講座、参加日程を明記の上お申込みください。担当より24時間以内にご連絡致します。2名以上で18ｈもしくは1名で12ｈの開講が可能です。 \n■　申し込み締切り：12/22（月）までに受講料をご入金ください。返信メール記載の銀行口座までご入金をお願いします。 \n  \n  \n  \n  \n\n\n無料体験レッスン・教室見学も受付中です。\nまずはお気軽にお問い合わせください。 \nお電話でも受付中！ \n03-5928-3828\n事務局受付時間　火〜金/10:00〜18:30\n土日/10:00〜17:00 \n教室見学申込
URL:https://e-chinaikb.jp/event/2025-2026winter-intensive-course/
LOCATION:イーチャイナ池袋校\, 東京都豊島区南池袋2-17-11後藤ビル401\, 豊島区\, 東京都\, 1710022\, 日本
CATEGORIES:講座
ATTACH;FMTTYPE=image/jpeg:https://e-chinaikb.jp/wp-content/uploads/2024/10/年末集中講座.jpg
ORGANIZER;CN="%E3%82%A4%E3%83%BC%E3%83%81%E3%83%A3%E3%82%A4%E3%83%8A%E6%B1%A0%E8%A2%8B%E6%A0%A1":MAILTO:info@e-chinaikb.jp
END:VEVENT
END:VCALENDAR