BEGIN:VCALENDAR
VERSION:2.0
PRODID:-//| 中国語教室 | イーチャイナ池袋校 | 駅近で通いやすい月謝制に中国語eラーニング「スマチュ」も無料ご利用 - ECPv6.0.12//NONSGML v1.0//EN
CALSCALE:GREGORIAN
METHOD:PUBLISH
X-ORIGINAL-URL:https://e-chinaikb.jp
X-WR-CALDESC:| 中国語教室 | イーチャイナ池袋校 | 駅近で通いやすい月謝制に中国語eラーニング「スマチュ」も無料ご利用 のイベント
REFRESH-INTERVAL;VALUE=DURATION:PT1H
X-Robots-Tag:noindex
X-PUBLISHED-TTL:PT1H
BEGIN:VTIMEZONE
TZID:Asia/Tokyo
BEGIN:STANDARD
TZOFFSETFROM:+0900
TZOFFSETTO:+0900
TZNAME:JST
DTSTART:20260101T000000
END:STANDARD
END:VTIMEZONE
BEGIN:VEVENT
DTSTART;TZID=Asia/Tokyo:20260428T190000
DTEND;TZID=Asia/Tokyo:20260428T203000
DTSTAMP:20260424T051533
CREATED:20260206T080239Z
LAST-MODIFIED:20260403T033342Z
UID:31535-1777402800-1777408200@e-chinaikb.jp
SUMMARY:新規）少人数グループ「HSK4級・上級クラス」
DESCRIPTION:「分かる」から、「とっさに話せる」中国語へ。ネイティブに「通じる」中国語習得。\n中国語を一通り学んできたけれど、「言いたいことがとっさに出てこない」「発音・声調にまだ不安がある」「会話が広がらない」そんな“中級の壁”を感じていませんか？イーチャイナの中上級クラスは、少人数のアウトプットで実際に使える中国語へ引き上げるグループクラスです。 \n\n\n\n  \n\n\n◎上級会話クラス\n対象：HSK6級相当の方 \n教材：中国镜头　China Focus \n時間：火曜日19：00～20：20 \n初回：5月12日（火）スタート \n募集状況：あと1名で開講可能です \n  \n◎HSK4級オンラインクラス\n対象：HSK3級以上の方 \n教材：HSK標準教程上 \n時間：土曜日10：45～12：05 \n初回：5月16日（土）スタート \n募集状況：あと1名で開講可能です \n\n \n\n\n\n\n  \nその他既存クラスはこちら \n  \n\n\n  \n\n\n注意点\n・グループクラス80分クラス　月謝10\,240円 \n・締め切り：4月28日（火） \n・半年以上のご継続が必要となります。 \n・対面↔オンラインの切り替えも可能です。 \n  \n  \n\n\n無料体験レッスン・教室見学も受付中です。\nまずはお気軽にお問い合わせください。 \nお電話でも受付中！ \n03-5928-3828\n事務局受付時間　火〜金/10:00〜18:30\n土日/10:00〜17:00 \n教室見学申込 \n\n\n  \n\n\n 
URL:https://e-chinaikb.jp/event/new-advanced-group-class/
LOCATION:イーチャイナ池袋校\, 東京都豊島区南池袋2-17-11後藤ビル401\, 豊島区\, 東京都\, 1710022\, 日本
CATEGORIES:講座
ATTACH;FMTTYPE=image/jpeg:https://e-chinaikb.jp/wp-content/uploads/2026/02/授業の様子＿梁FB.jpg
ORGANIZER;CN="%E3%82%A4%E3%83%BC%E3%83%81%E3%83%A3%E3%82%A4%E3%83%8A%E6%B1%A0%E8%A2%8B%E6%A0%A1":MAILTO:info@e-chinaikb.jp
END:VEVENT
END:VCALENDAR