BEGIN:VCALENDAR
VERSION:2.0
PRODID:-//| 中国語教室 | イーチャイナ池袋校 | 駅近で通いやすい月謝制に中国語eラーニング「スマチュ」も無料ご利用 - ECPv6.0.12//NONSGML v1.0//EN
CALSCALE:GREGORIAN
METHOD:PUBLISH
X-WR-CALNAME:| 中国語教室 | イーチャイナ池袋校 | 駅近で通いやすい月謝制に中国語eラーニング「スマチュ」も無料ご利用
X-ORIGINAL-URL:https://e-chinaikb.jp
X-WR-CALDESC:| 中国語教室 | イーチャイナ池袋校 | 駅近で通いやすい月謝制に中国語eラーニング「スマチュ」も無料ご利用 のイベント
REFRESH-INTERVAL;VALUE=DURATION:PT1H
X-Robots-Tag:noindex
X-PUBLISHED-TTL:PT1H
BEGIN:VTIMEZONE
TZID:Asia/Tokyo
BEGIN:STANDARD
TZOFFSETFROM:+0900
TZOFFSETTO:+0900
TZNAME:JST
DTSTART:20260101T000000
END:STANDARD
END:VTIMEZONE
BEGIN:VEVENT
DTSTART;TZID=Asia/Tokyo:20260327T100000
DTEND;TZID=Asia/Tokyo:20260405T150000
DTSTAMP:20260424T075523
CREATED:20260128T082411Z
LAST-MODIFIED:20260324T024027Z
UID:31498-1774605600-1775401200@e-chinaikb.jp
SUMMARY:春休みスペシャル企画！話せる!伝わる! 中国語キッズ チャレンジ3DAYS
DESCRIPTION:春休み、中国語が“教科”から“体験”に変わる\n「勉強」じゃない。“中国語を使えた！”を体験する3日間。\nイーチャイナの春休み講座は、文法を学ぶ場ではありません。\n中国語を“使えた成功体験”を積む場所です。\n  \n\n\n\n  \n\n\n\nなぜ、春休み講座で子供が一気に伸びるのか？\n子供の語学力は\n「勉強量」ではなく\n**「使った回数」**で決まります。\nこの講座では\n✔ 会話ミッション\n✔ 動画撮影\n✔ ゲーム型思考トレーニング\nを通して、中国語を自然に使う環境を作ります。\n  \n\n\n\n  \n3日後の子供の変化\n講座前\n「中国語むずかしい…」\n  \n講座後\n「見て！中国語で話せるよ！」\nこの“成功体験”が、その後の学習意欲を決定づけます。\n  \n\n\n  \n学べるのは中国語だけではありません\nこのプログラムで育つのは\n🧠 思考力\n🎤 表現力\n💬 コミュニケーション力\n🌍 国際感覚\n  \n中国語は“手段”\n本当に育てたい力を伸ばす設計です。\n  \n\n  \n\nネイティブ講師 × 子供指導のプロ\n楽しいだけでは終わりません。\n発音矯正・会話指導は専門的に行い、\n「遊びながら本物が身につく」レッスンです。\n保育園や私立中学でも教える子供心を理解したプロ講師が担当\n\n  \n\n  \n\n\n\n\n\n  \n【3DAYSチャレンジの内容】\n\n\n\n\n🎬コース①中国語キッズYouTuber講座\n日時：3/27（金）-3/29（日）　10：00～15：00　\n\n3日間で中国語で話す子に！\n🎤 中国語で自己紹介\n🎤 好きなもの紹介\n🎤 日本の紹介\n📹 最終日は動画撮影！\n▶ 完成動画データをプレゼント✨\n▶ 人前で話す力・表現力も育ちます\n \n  \n🎭コース②ピンインアドベンチャー\n日時：3/31（火）-4/2（水）　10：00～15：00\n\n3日間で中国語の音を楽しむ\n👉魔法の音の森で母音、四声、唇の音をマスターする\n👉早口言葉の山で舌の体操、難しい音を練習する\n👉リズムシティでコンビネーション、文書をチャレンジする\n▶ ゲーム感覚で発音をマスターすることができる✨\n▶ 学んだ発音で家族の紹介をすることができる✨\n \n  \n🧭コース③ 中国探検ミッション講座・・・申し込み1名あり\n日時：4/3（金）-4/5（日）　10：00～15：00　\n\n教室が“中国の街”に大変身！\n🍜 レストランで注文\n🛍 お店で買い物\n🚉 駅で行き先を聞く\n▶中国語でミッションをクリアして🎖「中国探検証」をゲット！\n▶「使えた！」が自信になる体験型講座\n \n\n\n\n\n\n\n\n\n\n\n過去の集中講座の様子をyoutubeでも公開中！\n\n\n\n\n\n\n\n\n\n\n\n \n\n【受講料】 \n　　各コース・・・3日間12ｈ36\,000円 （2名より開講）　　※1日のみ12\,000円\n\n\n\n　　　※イーチャイナ在学生10％OFF、もしくは兄弟姉妹の同時申込で10％OFFとなります。\n　　　※開講が決まった講座のみ1日単位での参加ができますが、全日参加の方が優先となります。\n\n           キャンセル規定：お申込み確定後のキャンセルは手数料1\,100円と口座振込の場合は手数料をご負担ください。また受講開始の3日前以降はキャンセルできかねます。\n\n【受講の注意点】\n\n\n■　定員：各講座7名まで　　※2名より開講します \n■　受講時間：10：00～12：00　休憩　13：00～15：00 \nお昼休憩の食事をご持参ください。※電子レンジと冷蔵庫あり \n■　開講が決まった講座のみ1日単位での参加ができますが、全日参加の方が優先となります。 \n■　申し込み方法：お電話（03-5928-3828）または下記お申込みフォームよりご希望講座、参加講座を明記の上お申込みください。担当より24時間以内にご連絡致します。 \n■　申し込み締切り：開講1週間前までに受講料をご入金ください。 \n\n\n\n三菱UFJ銀行　池袋東口支店　普通0661903\n名義：カ）チャイナワン\n※振込手数料はお客様負担でお願い致します。\n\n\n\n■　イーチャイナ池袋校子供レッスンはこちら \n\n\n\n\n\n\n\n無料体験レッスン・教室見学も受付中です。\nまずはお気軽にお問い合わせください。 \nお電話でも受付中！ \n03-5928-3828\n事務局受付時間　火〜金/10:00〜18:30\n土日/10:00〜17:00 \n教室見学申込 \n\n\n  \n\n\n  \n\n\n\n\n  \n[/cmsmasters_text][/cmsmasters_column][/cmsmasters_row]﻿﻿﻿﻿﻿﻿﻿﻿﻿﻿﻿ \n  \n  \n  \n  \n  \n  \n  \n  \n  \n  \n  \n  \n  \n  \n  \n  \n  \n  \n  \n  \n  \n  \n  \n  \n  \n  \n  \n  \n  \n  \n  \n  \n  \n  \n  \n  \n  \n  \n  \n  \n  \n  \n  \n  \n  \n  \n  \n  \n  \n  \n  \n  \n  \n  \n  \n  \n  \n  \n  \n  \n  \n  \n  \n  \n  \n  \n  \n  \n \n\n\n\n\n\n\n  \n\n\n【対象】\n幼児、小学生、中学生\n【受講料】\n各コース・・・3日間12ｈ36\,000円 （2名より開講）　　※1日のみ12\,000円\n\n※イーチャイナ在学生10％OFF、もしくは兄弟姉妹の同時申込で10％OFFとなります。\n※開講が決まった講座のみ1日単位での参加ができますが、全日参加の方が優先となります。\n\nキャンセル規定：お申込み確定後のキャンセルは手数料1\,100円と口座振込の場合は手数料をご負担ください。また受講開始の3日前以降はキャンセルできかねます。\n\n【受講の注意点】\n\n\n■　定員：各講座7名まで　　※2名より開講します\n■　受講時間：10：00～12：00　休憩　13：00～15：00\nお昼休憩の食事をご持参ください。電子レンジと冷蔵庫があるので講師がサポートします。\n■　開講が決まった講座のみ1日単位での参加ができますが、全日参加の方が優先となります。\n■　申し込み方法：お電話（03-5928-3828）または下記お申込みフォームよりご希望講座、参加講座を明記の上お申込みください。担当より24時間以内にご連絡致します。\n■　申し込み締切り：開講1週間前までに受講料をご入金ください。\n\n三菱UFJ銀行　池袋東口支店　普通0661903\n名義：（カ）チャイナワン\n※振込手数料はお客様負担でお願い致します。\n\n　\n■　イーチャイナ池袋校子供レッスンはこちら\n\n\n\n\n\n\n\n\n無料体験レッスン・教室見学も受付中です。\nまずはお気軽にお問い合わせください。\nお電話でも受付中！\n03-5928-3828\n事務局受付時間　火〜金/10:00〜18:30\n土日/10:00〜17:00\n教室見学申込\n\n\n\n\n\n 
URL:https://e-chinaikb.jp/event/2026spring-kids-challenge/
LOCATION:イーチャイナ池袋校\, 東京都豊島区南池袋2-17-11後藤ビル401\, 豊島区\, 東京都\, 1710022\, 日本
CATEGORIES:講座
ATTACH;FMTTYPE=image/png:https://e-chinaikb.jp/wp-content/uploads/2026/01/2026中国語キッズチャレンジ3DAYS_スライド.png
ORGANIZER;CN="%E3%82%A4%E3%83%BC%E3%83%81%E3%83%A3%E3%82%A4%E3%83%8A%E6%B1%A0%E8%A2%8B%E6%A0%A1":MAILTO:info@e-chinaikb.jp
END:VEVENT
END:VCALENDAR